BEGIN:VCALENDAR
VERSION:2.0
PRODID:-//Drupal iCal API//EN
X-WR-CALNAME:Events items teaser
X-WR-TIMEZONE:America/Toronto
BEGIN:VTIMEZONE
TZID:America/Toronto
X-LIC-LOCATION:America/Toronto
BEGIN:DAYLIGHT
TZNAME:EDT
TZOFFSETFROM:-0500
TZOFFSETTO:-0400
DTSTART:20220313T070000
END:DAYLIGHT
BEGIN:STANDARD
TZNAME:EST
TZOFFSETFROM:-0400
TZOFFSETTO:-0500
DTSTART:20211107T060000
END:STANDARD
END:VTIMEZONE
BEGIN:VEVENT
UID:69d7491522e6b
DTSTART;TZID=America/Toronto:20221028T160000
SEQUENCE:0
TRANSP:TRANSPARENT
DTEND;TZID=America/Toronto:20221028T180000
URL:https://uwaterloo.ca/centre-for-german-studies/events/germans-waterloo-
 region-book-launch
LOCATION:FED - Federation Hall 200 University Avenue West Waterloo ON N2L 3
 G1 Canada
SUMMARY:Germans of Waterloo Region - Book Launch
CLASS:PUBLIC
DESCRIPTION:The Waterloo Centre for German Studies will be holding a book l
 aunch\nfor a collection of essays\, _Germans of Waterloo. _Edited by Mat
 \nSchulze\, Grit Liebscher\, and Sebastian Siebel-Achenbach\, this\nanthol
 ogy recounts the experiences of German-speaking immigrants to\nthe Waterlo
 o region since the end of the Second World War. The essays\,\nall co-writt
 en by faculty members and students at the Waterloo Centre\nfor German Stud
 ies\, are based on over 100 interviews conducted with\nmembers of the Germ
 an-Canadian community.
DTSTAMP:20260409T063709Z
END:VEVENT
END:VCALENDAR