BEGIN:VCALENDAR
VERSION:2.0
PRODID:-//Drupal iCal API//EN
X-WR-CALNAME:Events items teaser
X-WR-TIMEZONE:America/Toronto
BEGIN:VTIMEZONE
TZID:America/Toronto
X-LIC-LOCATION:America/Toronto
BEGIN:DAYLIGHT
TZNAME:EDT
TZOFFSETFROM:-0500
TZOFFSETTO:-0400
DTSTART:20240310T070000
END:DAYLIGHT
BEGIN:STANDARD
TZNAME:EST
TZOFFSETFROM:-0400
TZOFFSETTO:-0500
DTSTART:20241103T060000
END:STANDARD
END:VTIMEZONE
BEGIN:VEVENT
UID:69d7494d88585
DTSTART;TZID=America/Toronto:20241107T143000
SEQUENCE:0
TRANSP:TRANSPARENT
DTEND;TZID=America/Toronto:20241107T153000
URL:https://uwaterloo.ca/centre-for-german-studies/events/funding-your-rese
 arch-germany-info-session
SUMMARY:Funding Your Research in Germany Info Session
CLASS:PUBLIC
DESCRIPTION:DAAD \n[https://6i7espcab.cc.rs6.net/tn.jsp?f=001iaTWrWY0iFTTU
 BJGhqC9KlDRI13WkyagmFVmVhHNt5H32L7b6r_aDh_1Bs5mQlEpPsepfb-g25b5mxx9pj1wxzd
 lC5lclk1gwBWsBG_qLvWdxXStqjvmyOcyFp6F-aGXfmCpEY0YGdHgr4PUbEr1Zwy4bvGX51qd&amp;
 c=Sx4_zBtKTrD-vGvKaN4vhIOd8jgmykwn6rny9KhwKDHOK2zrBH_IZA==&amp;ch=GeLhdmdh5R43
 U1p7phDoqayEEKtbv_zcNVii8b3CEROaULCr-YtKWg==]- \n[https://6i7espcab.cc.rs
 6.net/tn.jsp?f=001iaTWrWY0iFTTUBJGhqC9KlDRI13WkyagmFVmVhHNt5H32L7b6r_aDh_1
 Bs5mQlEpPsepfb-g25b5mxx9pj1wxzdlC5lclk1gwBWsBG_qLvWdxXStqjvmyOcyFp6F-aGXfm
 CpEY0YGdHgr4PUbEr1Zwy4bvGX51qd&amp;c=Sx4_zBtKTrD-vGvKaN4vhIOd8jgmykwn6rny9KhwK
 DHOK2zrBH_IZA==&amp;ch=GeLhdmdh5R43U1p7phDoqayEEKtbv_zcNVii8b3CEROaULCr-YtKWg=
 =]German \n[https://6i7espcab.cc.rs6.net/tn.jsp?f=001iaTWrWY0iFTTUBJGhqC9
 KlDRI13WkyagmFVmVhHNt5H32L7b6r_aDh_1Bs5mQlEpPsepfb-g25b5mxx9pj1wxzdlC5lclk
 1gwBWsBG_qLvWdxXStqjvmyOcyFp6F-aGXfmCpEY0YGdHgr4PUbEr1Zwy4bvGX51qd&amp;c=Sx4_z
 BtKTrD-vGvKaN4vhIOd8jgmykwn6rny9KhwKDHOK2zrBH_IZA==&amp;ch=GeLhdmdh5R43U1p7phD
 oqayEEKtbv_zcNVii8b3CEROaULCr-YtKWg==]Academic \n[https://6i7espcab.cc.rs
 6.net/tn.jsp?f=001iaTWrWY0iFTTUBJGhqC9KlDRI13WkyagmFVmVhHNt5H32L7b6r_aDh_1
 Bs5mQlEpPsepfb-g25b5mxx9pj1wxzdlC5lclk1gwBWsBG_qLvWdxXStqjvmyOcyFp6F-aGXfm
 CpEY0YGdHgr4PUbEr1Zwy4bvGX51qd&amp;c=Sx4_zBtKTrD-vGvKaN4vhIOd8jgmykwn6rny9KhwK
 DHOK2zrBH_IZA==&amp;ch=GeLhdmdh5R43U1p7phDoqayEEKtbv_zcNVii8b3CEROaULCr-YtKWg=
 =]Exchange \n[https://6i7espcab.cc.rs6.net/tn.jsp?f=001iaTWrWY0iFTTUBJGhq
 C9KlDRI13WkyagmFVmVhHNt5H32L7b6r_aDh_1Bs5mQlEpPsepfb-g25b5mxx9pj1wxzdlC5lc
 lk1gwBWsBG_qLvWdxXStqjvmyOcyFp6F-aGXfmCpEY0YGdHgr4PUbEr1Zwy4bvGX51qd&amp;c=Sx4
 _zBtKTrD-vGvKaN4vhIOd8jgmykwn6rny9KhwKDHOK2zrBH_IZA==&amp;ch=GeLhdmdh5R43U1p7p
 hDoqayEEKtbv_zcNVii8b3CEROaULCr-YtKWg==]Service\n[https://6i7espcab.cc.rs6
 .net/tn.jsp?f=001iaTWrWY0iFTTUBJGhqC9KlDRI13WkyagmFVmVhHNt5H32L7b6r_aDh_1B
 s5mQlEpPsepfb-g25b5mxx9pj1wxzdlC5lclk1gwBWsBG_qLvWdxXStqjvmyOcyFp6F-aGXfmC
 pEY0YGdHgr4PUbEr1Zwy4bvGX51qd&amp;c=Sx4_zBtKTrD-vGvKaN4vhIOd8jgmykwn6rny9KhwKD
 HOK2zrBH_IZA==&amp;ch=GeLhdmdh5R43U1p7phDoqayEEKtbv_zcNVii8b3CEROaULCr-YtKWg==
 ] is\npleased to present an INFORMATION\nSESSION for FACULTY\, POSTDO
 CS and PHD STUDENTS at\nthe UNIVERSITY OF WATERLOO on THURSDAY\, NO
 VEMBER\n7TH between 2:30 AND 3:30 pm in Environment \n[https://6i7esp
 cab.cc.rs6.net/tn.jsp?f=001iaTWrWY0iFTTUBJGhqC9KlDRI13WkyagmFVmVhHNt5H32L7
 b6r_aDsmKso-m1YNMNd_0OMQubqTTzPPBoHBjDDZHq47uvUa0BLCuTQts4nuJMAtm9isq0hz5T
 Ry-n3vmoSBZp4_MvwiT0IBQLVc-4bWnAxQOQr5a&amp;c=Sx4_zBtKTrD-vGvKaN4vhIOd8jgmykwn
 6rny9KhwKDHOK2zrBH_IZA==&amp;ch=GeLhdmdh5R43U1p7phDoqayEEKtbv_zcNVii8b3CEROaUL
 Cr-YtKWg==]1\, \n[https://6i7espcab.cc.rs6.net/tn.jsp?f=001iaTWrWY0iFTTUB
 JGhqC9KlDRI13WkyagmFVmVhHNt5H32L7b6r_aDsmKso-m1YNMNd_0OMQubqTTzPPBoHBjDDZH
 q47uvUa0BLCuTQts4nuJMAtm9isq0hz5TRy-n3vmoSBZp4_MvwiT0IBQLVc-4bWnAxQOQr5a&amp;c
 =Sx4_zBtKTrD-vGvKaN4vhIOd8jgmykwn6rny9KhwKDHOK2zrBH_IZA==&amp;ch=GeLhdmdh5R43U
 1p7phDoqayEEKtbv_zcNVii8b3CEROaULCr-YtKWg==]Room \n[https://6i7espcab.cc.
 rs6.net/tn.jsp?f=001iaTWrWY0iFTTUBJGhqC9KlDRI13WkyagmFVmVhHNt5H32L7b6r_aDs
 mKso-m1YNMNd_0OMQubqTTzPPBoHBjDDZHq47uvUa0BLCuTQts4nuJMAtm9isq0hz5TRy-n3vm
 oSBZp4_MvwiT0IBQLVc-4bWnAxQOQr5a&amp;c=Sx4_zBtKTrD-vGvKaN4vhIOd8jgmykwn6rny9Kh
 wKDHOK2zrBH_IZA==&amp;ch=GeLhdmdh5R43U1p7phDoqayEEKtbv_zcNVii8b3CEROaULCr-YtKW
 g==]221.\n[https://6i7espcab.cc.rs6.net/tn.jsp?f=001iaTWrWY0iFTTUBJGhqC9Kl
 DRI13WkyagmFVmVhHNt5H32L7b6r_aDsmKso-m1YNMNd_0OMQubqTTzPPBoHBjDDZHq47uvUa0
 BLCuTQts4nuJMAtm9isq0hz5TRy-n3vmoSBZp4_MvwiT0IBQLVc-4bWnAxQOQr5a&amp;c=Sx4_zBt
 KTrD-vGvKaN4vhIOd8jgmykwn6rny9KhwKDHOK2zrBH_IZA==&amp;ch=GeLhdmdh5R43U1p7phDoq
 ayEEKtbv_zcNVii8b3CEROaULCr-YtKWg==]
DTSTAMP:20260409T063805Z
END:VEVENT
END:VCALENDAR