BEGIN:VCALENDAR
VERSION:2.0
PRODID:-//Drupal iCal API//EN
X-WR-CALNAME:Events items teaser
X-WR-TIMEZONE:America/Toronto
BEGIN:VTIMEZONE
TZID:America/Toronto
X-LIC-LOCATION:America/Toronto
BEGIN:DAYLIGHT
TZNAME:EDT
TZOFFSETFROM:-0500
TZOFFSETTO:-0400
DTSTART:20260308T070000
END:DAYLIGHT
BEGIN:STANDARD
TZNAME:EST
TZOFFSETFROM:-0400
TZOFFSETTO:-0500
DTSTART:20251102T060000
END:STANDARD
END:VTIMEZONE
BEGIN:VEVENT
UID:69eb50f64f568
DTSTART;TZID=America/Toronto:20260406T190000
SEQUENCE:0
TRANSP:TRANSPARENT
DTEND;TZID=America/Toronto:20260406T210000
URL:https://uwaterloo.ca/centre-for-german-studies/events/anjeana-hans
LOCATION:Balsillie School of International Affairs 67 Erb Street West Water
 loo ON Canada
SUMMARY:Anjeana Hans
CLASS:PUBLIC
DESCRIPTION:FROM VIENNA TO HOLLYWOOD: INDEPENDENT FILMS\, EXILE\, AND THE 
 SHAPING\nOF HOLLYWOOD GENRE\n\nWhen the Nazis rose to power in Germany in 
 1933\, they instituted laws\nthat systematically excluded Jewish Germans f
 rom cultural and social\nlife and thus marked the start of a wave of force
 d immigration. Many\nfilmmakers\, writers\, and actors forced into exile i
 nitially went to\nAustria\, where they were able to produce independent fi
 lms until the\n_Anschluss_ of 1938. This talk focuses on director Henry Ko
 ster\, who\nbegan his career in Berlin\, made several independent films wh
 ile in\nexile in Austria\, and finally reached Hollywood\, where he was on
 e of a\nfairly small number of exile directors to build a truly successful
 \ncareer. By tracing continuities across his work\, I will consider how\nK
 oster’s Austrian independent films\, which were marked indelibly by\nthe
  experience of exile\, shaped his later work and contributed to the\ndevel
 opment of Hollywood genres.\n\nPart of The Diefenbaker Lectures\n[/german
 ic-slavic-studies/node/1105]\, a series of talks by leading\nscholars in G
 erman studies.\n\n_Anjeana Hans is Professor and Chair of German Studies a
 t Wellesley\nCollege._\n\n-------------------------\n\n_If you wish to att
 end\, please register at Eventbrite\n[https://www.eventbrite.ca/e/the-dief
 enbaker-lecture-series-anjeana-hans-tickets-1983384997920?aff=oddtdtcreato
 r]\n- there's a reception after the lecture\, and we want to make sure\nev
 eryone gets something to eat and drink!_
DTSTAMP:20260424T111606Z
END:VEVENT
END:VCALENDAR