BEGIN:VCALENDAR
VERSION:2.0
PRODID:-//Drupal iCal API//EN
X-WR-CALNAME:Events items teaser
X-WR-TIMEZONE:America/Toronto
BEGIN:VTIMEZONE
TZID:America/Toronto
X-LIC-LOCATION:America/Toronto
BEGIN:DAYLIGHT
TZNAME:EDT
TZOFFSETFROM:-0500
TZOFFSETTO:-0400
DTSTART:20180311T070000
END:DAYLIGHT
BEGIN:STANDARD
TZNAME:EST
TZOFFSETFROM:-0400
TZOFFSETTO:-0500
DTSTART:20171105T060000
END:STANDARD
END:VTIMEZONE
BEGIN:VEVENT
UID:69ce9623de988
DTSTART;TZID=America/Toronto:20180928T105600
SEQUENCE:0
TRANSP:TRANSPARENT
DTEND;TZID=America/Toronto:20180928T105600
URL:https://uwaterloo.ca/centre-for-society-technology-values/events/cybers
 ecurity-and-privacy-institute-launch
LOCATION:M3 - Mathematics 3 200 University Avenue West Waterloo ON N2L 3G1 
 Canada
SUMMARY:Cybersecurity and Privacy Institute Launch
CLASS:PUBLIC
DESCRIPTION:UWATERLOO CYBERSECURITY AND PRIVACY INSTITUTE\n\nLaunch of the 
 new Institute\n[https://uwaterloo.ca/cybersecurity-privacy-institute/event
 s/cybersecurity-and-privacy-institute-launch?utm_source=daily-bulletin&amp;utm
 _medium=email&amp;utm_campaign=cpi]\noccurs on Friday\, Sep. 27 at 10am\, Bruc
 e White Atrium–M3\n[https://uwaterloo.ca/math-business-accounting-progra
 ms/about/mathematics-3].
DTSTAMP:20260402T161531Z
END:VEVENT
END:VCALENDAR