BEGIN:VCALENDAR
VERSION:2.0
PRODID:-//Drupal iCal API//EN
X-WR-CALNAME:Events items teaser
X-WR-TIMEZONE:America/Toronto
BEGIN:VTIMEZONE
TZID:America/Toronto
X-LIC-LOCATION:America/Toronto
BEGIN:DAYLIGHT
TZNAME:EDT
TZOFFSETFROM:-0500
TZOFFSETTO:-0400
DTSTART:20230312T070000
END:DAYLIGHT
BEGIN:STANDARD
TZNAME:EST
TZOFFSETFROM:-0400
TZOFFSETTO:-0500
DTSTART:20221106T060000
END:STANDARD
END:VTIMEZONE
BEGIN:VEVENT
UID:69e5e703712d7
DTSTART;TZID=America/Toronto:20230505T100000
SEQUENCE:0
TRANSP:TRANSPARENT
DTEND;TZID=America/Toronto:20230505T120000
URL:https://uwaterloo.ca/centre-for-teaching-excellence/events/getting-star
 ted-learn
LOCATION:MC - Mathematics &amp; Computer Building 200 University Avenue West Wa
 terloo ON N2L 3G1 Canada
SUMMARY:Getting Started in LEARN
CLASS:PUBLIC
DESCRIPTION:This two-hour\, online session will introduce you to LEARN (D2L
 \nBrightspace)\, uWaterloo's course management system for presenting\ncour
 se activities and resources in on-campus and fully online courses.\n\nLoca
 tion: In-person\, MC 2036
DTSTAMP:20260420T084243Z
END:VEVENT
END:VCALENDAR