BEGIN:VCALENDAR
VERSION:2.0
PRODID:-//Drupal iCal API//EN
X-WR-CALNAME:Events items teaser
X-WR-TIMEZONE:America/Toronto
BEGIN:VTIMEZONE
TZID:America/Toronto
X-LIC-LOCATION:America/Toronto
BEGIN:DAYLIGHT
TZNAME:EDT
TZOFFSETFROM:-0500
TZOFFSETTO:-0400
DTSTART:20230312T070000
END:DAYLIGHT
BEGIN:STANDARD
TZNAME:EST
TZOFFSETFROM:-0400
TZOFFSETTO:-0500
DTSTART:20231105T060000
END:STANDARD
END:VTIMEZONE
BEGIN:VEVENT
UID:69e4fc8f30aa7
DTSTART;TZID=America/Toronto:20231211T130000
SEQUENCE:0
TRANSP:TRANSPARENT
DTEND;TZID=America/Toronto:20231211T150000
URL:https://uwaterloo.ca/centre-for-teaching-excellence/events/getting-star
 ted-learn-online
LOCATION:200 University Avenue West Waterloo ON N2L 3G1 Canada
SUMMARY:Getting Started in LEARN (online)
CLASS:PUBLIC
DESCRIPTION:PLEASE NOTE: THIS WORKSHOP IS INTENDED FOR INSTRUCTORS THAT WIL
 L BE\nUSING LEARN IN THE UPCOMING TERM.\n\nThis two-hour\, ONLINE sessio
 n will introduce you to LEARN (D2L\nBrightspace)\, uWaterloo's learning ma
 nagement system for presenting\ncourse activities and resources in on-camp
 us and fully online courses.
DTSTAMP:20260419T160223Z
END:VEVENT
END:VCALENDAR