BEGIN:VCALENDAR
VERSION:2.0
PRODID:-//Drupal iCal API//EN
X-WR-CALNAME:Events items teaser
X-WR-TIMEZONE:America/Toronto
BEGIN:VTIMEZONE
TZID:America/Toronto
X-LIC-LOCATION:America/Toronto
BEGIN:DAYLIGHT
TZNAME:EDT
TZOFFSETFROM:-0500
TZOFFSETTO:-0400
DTSTART:20250309T070000
END:DAYLIGHT
BEGIN:STANDARD
TZNAME:EST
TZOFFSETFROM:-0400
TZOFFSETTO:-0500
DTSTART:20241103T060000
END:STANDARD
END:VTIMEZONE
BEGIN:VEVENT
UID:69e560441b283
DTSTART;TZID=America/Toronto:20250318T130000
SEQUENCE:0
TRANSP:TRANSPARENT
DTEND;TZID=America/Toronto:20250318T143000
URL:https://uwaterloo.ca/centre-for-teaching-excellence/events/building-rap
 port-students-cte1203-4
LOCATION:Canada
SUMMARY:Building Rapport with Students (CTE1203)
CLASS:PUBLIC
DESCRIPTION:Discover strategies to establish positive relationships with yo
 ur\nstudents by attending the Building Rapport with Students (CTE1203)\nwo
 rkshop.
DTSTAMP:20260419T230748Z
END:VEVENT
END:VCALENDAR