BEGIN:VCALENDAR
VERSION:2.0
PRODID:-//Drupal iCal API//EN
X-WR-CALNAME:Events items teaser
X-WR-TIMEZONE:America/Toronto
BEGIN:VTIMEZONE
TZID:America/Toronto
X-LIC-LOCATION:America/Toronto
BEGIN:DAYLIGHT
TZNAME:EDT
TZOFFSETFROM:-0500
TZOFFSETTO:-0400
DTSTART:20250309T070000
END:DAYLIGHT
BEGIN:DAYLIGHT
TZNAME:EDT
TZOFFSETFROM:-0500
TZOFFSETTO:-0400
DTSTART:20260308T070000
END:DAYLIGHT
BEGIN:STANDARD
TZNAME:EST
TZOFFSETFROM:-0400
TZOFFSETTO:-0500
DTSTART:20251102T060000
END:STANDARD
END:VTIMEZONE
BEGIN:VEVENT
UID:69e7dc2037a85
DTSTART;TZID=America/Toronto:20260302T083000
SEQUENCE:0
TRANSP:TRANSPARENT
DTEND;TZID=America/Toronto:20260316T225900
URL:https://uwaterloo.ca/centre-for-teaching-excellence/events/social-anxie
 ty-classroom-inclusive-instruction-series
LOCATION:Canada
SUMMARY:Social Anxiety in the Classroom [Inclusive Instruction Series]\n(C
 TE1264)
CLASS:PUBLIC
DESCRIPTION:Learn how you can support students with social anxiety at the S
 ocial\nAnxiety in the Classroom [Inclusive Instruction Series] (CTE1264)\n
 online workshop.
DTSTAMP:20260421T202048Z
END:VEVENT
END:VCALENDAR