BEGIN:VCALENDAR
VERSION:2.0
PRODID:-//Drupal iCal API//EN
X-WR-CALNAME:Events items teaser
X-WR-TIMEZONE:America/Toronto
BEGIN:VTIMEZONE
TZID:America/Toronto
X-LIC-LOCATION:America/Toronto
BEGIN:DAYLIGHT
TZNAME:EDT
TZOFFSETFROM:-0500
TZOFFSETTO:-0400
DTSTART:20260308T070000
END:DAYLIGHT
BEGIN:STANDARD
TZNAME:EST
TZOFFSETFROM:-0400
TZOFFSETTO:-0500
DTSTART:20251102T060000
END:STANDARD
END:VTIMEZONE
BEGIN:VEVENT
UID:69e5ab418cb79
DTSTART;TZID=America/Toronto:20260317T083000
SEQUENCE:0
TRANSP:TRANSPARENT
DTEND;TZID=America/Toronto:20260331T235900
URL:https://uwaterloo.ca/centre-for-teaching-excellence/events/supporting-s
 tudent-mental-health-inclusive-instruction
LOCATION:Canada
SUMMARY:Supporting Student Mental Health [Inclusive Instruction Series]\n(
 CTE2259)
CLASS:PUBLIC
DESCRIPTION:Explore how to support student mental health in the classroom a
 s a TA\,\nat the Supporting Student Mental Health (CTE2259) self-paced o
 nline\nmodule.
DTSTAMP:20260420T042745Z
END:VEVENT
END:VCALENDAR