BEGIN:VCALENDAR
VERSION:2.0
PRODID:-//Drupal iCal API//EN
X-WR-CALNAME:Events items teaser
X-WR-TIMEZONE:America/Toronto
BEGIN:VTIMEZONE
TZID:America/Toronto
X-LIC-LOCATION:America/Toronto
BEGIN:DAYLIGHT
TZNAME:EDT
TZOFFSETFROM:-0500
TZOFFSETTO:-0400
DTSTART:20260308T070000
END:DAYLIGHT
BEGIN:STANDARD
TZNAME:EST
TZOFFSETFROM:-0400
TZOFFSETTO:-0500
DTSTART:20251102T060000
END:STANDARD
END:VTIMEZONE
BEGIN:VEVENT
UID:69e8ec5c4ab6f
DTSTART;TZID=America/Toronto:20260428T120000
SEQUENCE:0
TRANSP:TRANSPARENT
DTEND;TZID=America/Toronto:20260428T131500
URL:https://uwaterloo.ca/centre-for-teaching-excellence/events/documenting-
 your-teaching-tenure-and-promotion-online-0
LOCATION:200 University Avenue West Waterloo ON N2L 3G1 Canada
SUMMARY:Documenting your Teaching for Tenure and Promotion - Online (CTE990
 8)
CLASS:PUBLIC
DESCRIPTION:Tenure and promotion are critical milestones in a faculty membe
 r's\ncareer. You need to collect evidence and document your successes in\n
 research\, teaching\, and service for various individuals and committees\n
 to assess. Although many faculty are well prepared to document their\nres
 earch and even service\, evidence of good teaching can be more\ndifficult 
 to provide.
DTSTAMP:20260422T154220Z
END:VEVENT
END:VCALENDAR