BEGIN:VCALENDAR
VERSION:2.0
PRODID:-//Drupal iCal API//EN
X-WR-CALNAME:Events items teaser
X-WR-TIMEZONE:America/Toronto
BEGIN:VTIMEZONE
TZID:America/Toronto
X-LIC-LOCATION:America/Toronto
BEGIN:DAYLIGHT
TZNAME:EDT
TZOFFSETFROM:-0500
TZOFFSETTO:-0400
DTSTART:20260308T070000
END:DAYLIGHT
BEGIN:STANDARD
TZNAME:EST
TZOFFSETFROM:-0400
TZOFFSETTO:-0500
DTSTART:20251102T060000
END:STANDARD
END:VTIMEZONE
BEGIN:VEVENT
UID:69eaa9e988f9e
DTSTART;TZID=America/Toronto:20260720T130000
SEQUENCE:0
TRANSP:TRANSPARENT
DTEND;TZID=America/Toronto:20260720T160000
URL:https://uwaterloo.ca/centre-for-teaching-excellence/events/assessment-r
 edesign-and-generative-artificial-intelligence-2
LOCATION:PHY - Physics 200 University Avenue West Waterloo ON N2L 3G1 Canad
 a
SUMMARY:Assessment Redesign and Generative Artificial Intelligence (GenAI) 
 -\n(CTE7556)
CLASS:PUBLIC
DESCRIPTION:PLEASE NOTE THIS IS A TWO-PART WORKSHOP. DUE TO THE DESIGN OF 
 THE\nWORKSHOP\, PARTICIPANTS ARE EXPECTED TO ATTEND BOTH HALF DAYS —\nMO
 NDAY\, JULY 20\, 2026  AND WEDNESDAY\, JULY 22\, 2026.\n\nThis assessmen
 t redesign workshop explores the implications of\nGenAI for assessment
  design\, offering strategies to both harness\nGenAI as a learning tool a
 nd address challenges. Over two half-days\,\nthe workshop provides space\,
  time\, expertise\, and peer feedback to\nhelp participants create assess
 ments that are both innovative and\nresilient in the age of GenAI.
DTSTAMP:20260423T232321Z
END:VEVENT
BEGIN:VEVENT
UID:69eaa9e98c240
DTSTART;TZID=America/Toronto:20260722T130000
SEQUENCE:0
TRANSP:TRANSPARENT
DTEND;TZID=America/Toronto:20260722T160000
URL:https://uwaterloo.ca/centre-for-teaching-excellence/events/assessment-r
 edesign-and-generative-artificial-intelligence-2
LOCATION:PHY - Physics 200 University Avenue West Waterloo ON N2L 3G1 Canad
 a
SUMMARY:Assessment Redesign and Generative Artificial Intelligence (GenAI) 
 -\n(CTE7556)
CLASS:PUBLIC
DESCRIPTION:PLEASE NOTE THIS IS A TWO-PART WORKSHOP. DUE TO THE DESIGN OF 
 THE\nWORKSHOP\, PARTICIPANTS ARE EXPECTED TO ATTEND BOTH HALF DAYS —\nMO
 NDAY\, JULY 20\, 2026  AND WEDNESDAY\, JULY 22\, 2026.\n\nThis assessmen
 t redesign workshop explores the implications of\nGenAI for assessment
  design\, offering strategies to both harness\nGenAI as a learning tool a
 nd address challenges. Over two half-days\,\nthe workshop provides space\,
  time\, expertise\, and peer feedback to\nhelp participants create assess
 ments that are both innovative and\nresilient in the age of GenAI.
DTSTAMP:20260423T232321Z
END:VEVENT
END:VCALENDAR