BEGIN:VCALENDAR
VERSION:2.0
PRODID:-//Drupal iCal API//EN
X-WR-CALNAME:Events items teaser
X-WR-TIMEZONE:America/Toronto
BEGIN:VTIMEZONE
TZID:America/Toronto
X-LIC-LOCATION:America/Toronto
BEGIN:DAYLIGHT
TZNAME:EDT
TZOFFSETFROM:-0500
TZOFFSETTO:-0400
DTSTART:20260308T070000
END:DAYLIGHT
BEGIN:STANDARD
TZNAME:EST
TZOFFSETFROM:-0400
TZOFFSETTO:-0500
DTSTART:20251102T060000
END:STANDARD
END:VTIMEZONE
BEGIN:VEVENT
UID:69e93319db68b
DTSTART;TZID=America/Toronto:20260528T120000
SEQUENCE:0
TRANSP:TRANSPARENT
DTEND;TZID=America/Toronto:20260528T130000
URL:https://uwaterloo.ca/centre-for-teaching-excellence/events/accessible-t
 eaching-support-instructors-part-1-making-most
LOCATION:Online 200 University Avenue West Waterloo ON N2L 3G1 Canada
SUMMARY:Accessible Teaching Support for Instructors Part 1: Making the Most
  of\nthe Accessible Teaching Website - Online (CTE7051)
CLASS:PUBLIC
DESCRIPTION:In this session\, attendees will engage in activities to help
 \nthem make the most of the Accessible Teaching website\n[https://uw
 aterloo.ca/accessible-teaching] with the goal\nof enhancing the accessi
 bility of their teaching and courses. 
DTSTAMP:20260422T204409Z
END:VEVENT
END:VCALENDAR