BEGIN:VCALENDAR
VERSION:2.0
PRODID:-//Drupal iCal API//EN
X-WR-CALNAME:Events items teaser
X-WR-TIMEZONE:America/Toronto
BEGIN:VTIMEZONE
TZID:America/Toronto
X-LIC-LOCATION:America/Toronto
BEGIN:DAYLIGHT
TZNAME:EDT
TZOFFSETFROM:-0500
TZOFFSETTO:-0400
DTSTART:20260308T070000
END:DAYLIGHT
BEGIN:STANDARD
TZNAME:EST
TZOFFSETFROM:-0400
TZOFFSETTO:-0500
DTSTART:20251102T060000
END:STANDARD
END:VTIMEZONE
BEGIN:VEVENT
UID:69ead2bebad0b
DTSTART;TZID=America/Toronto:20260617T130000
SEQUENCE:0
TRANSP:TRANSPARENT
DTEND;TZID=America/Toronto:20260617T143000
URL:https://uwaterloo.ca/centre-for-teaching-excellence/events/accessible-t
 eaching-support-instructors-part-2-uwaterloo
LOCATION:MC 2036 200 University Avenue West Waterloo ON N2L 3G1 Canada
SUMMARY:Accessible Teaching Support for Instructors Part 2: uWaterloo Cours
 e\nAccessibility Guide - In-Person (CTE7051)
CLASS:PUBLIC
DESCRIPTION:In this session\, attendees will learn how to use\nthe UWaterl
 oo Course Accessibility Guide\n[https://uwaterloo.ca/accessible-teaching/
 uwaterloo-course-accessibility-guide-uwcag] to\nenhance the accessibility
  of their courses.
DTSTAMP:20260424T021734Z
END:VEVENT
END:VCALENDAR