BEGIN:VCALENDAR
VERSION:2.0
PRODID:-//Drupal iCal API//EN
X-WR-CALNAME:Events items teaser
X-WR-TIMEZONE:America/Toronto
BEGIN:VTIMEZONE
TZID:America/Toronto
X-LIC-LOCATION:America/Toronto
BEGIN:DAYLIGHT
TZNAME:EDT
TZOFFSETFROM:-0500
TZOFFSETTO:-0400
DTSTART:20190310T070000
END:DAYLIGHT
BEGIN:STANDARD
TZNAME:EST
TZOFFSETFROM:-0400
TZOFFSETTO:-0500
DTSTART:20181104T060000
END:STANDARD
END:VTIMEZONE
BEGIN:VEVENT
UID:69b2c18e7edd2
DTSTART;TZID=America/Toronto:20190510T143000
SEQUENCE:0
TRANSP:TRANSPARENT
DTEND;TZID=America/Toronto:20190510T153000
URL:https://uwaterloo.ca/centre-mental-health-research-workshop/events/adap
 ting-group-therapy-neurodevelopmental-disorders
SUMMARY:Adapting Group Therapy for Neurodevelopmental Disorders
CLASS:PUBLIC
DESCRIPTION:Adapting Group Therapy for Neurodevelopmental Disorders (PDF).\
 n[/centre-mental-health-research-workshop/sites/default/files/uploads/docu
 ments/adapting_group_therapy_for_nd_may_10_2019_0.pdf]
DTSTAMP:20260312T133718Z
END:VEVENT
END:VCALENDAR