BEGIN:VCALENDAR
VERSION:2.0
PRODID:-//Drupal iCal API//EN
X-WR-CALNAME:Events items teaser
X-WR-TIMEZONE:America/Toronto
BEGIN:VTIMEZONE
TZID:America/Toronto
X-LIC-LOCATION:America/Toronto
BEGIN:DAYLIGHT
TZNAME:EDT
TZOFFSETFROM:-0500
TZOFFSETTO:-0400
DTSTART:20190310T070000
END:DAYLIGHT
BEGIN:STANDARD
TZNAME:EST
TZOFFSETFROM:-0400
TZOFFSETTO:-0500
DTSTART:20181104T060000
END:STANDARD
END:VTIMEZONE
BEGIN:VEVENT
UID:69b2c0f432a73
DTSTART;TZID=America/Toronto:20190510T090000
SEQUENCE:0
TRANSP:TRANSPARENT
DTEND;TZID=America/Toronto:20190510T091500
URL:https://uwaterloo.ca/centre-mental-health-research-workshop/events/welc
 ome-and-opening-remarks
SUMMARY:Welcome and opening remarks
CLASS:PUBLIC
DESCRIPTION:Welcome and opening remarks.
DTSTAMP:20260312T133444Z
END:VEVENT
END:VCALENDAR