BEGIN:VCALENDAR
VERSION:2.0
PRODID:-//Drupal iCal API//EN
X-WR-CALNAME:Events items teaser
X-WR-TIMEZONE:America/Toronto
BEGIN:VTIMEZONE
TZID:America/Toronto
X-LIC-LOCATION:America/Toronto
BEGIN:DAYLIGHT
TZNAME:EDT
TZOFFSETFROM:-0500
TZOFFSETTO:-0400
DTSTART:20190310T070000
END:DAYLIGHT
BEGIN:STANDARD
TZNAME:EST
TZOFFSETFROM:-0400
TZOFFSETTO:-0500
DTSTART:20181104T060000
END:STANDARD
END:VTIMEZONE
BEGIN:VEVENT
UID:69b2bc16a9831
DTSTART;TZID=America/Toronto:20190510T104500
SEQUENCE:0
TRANSP:TRANSPARENT
DTEND;TZID=America/Toronto:20190510T120000
URL:https://uwaterloo.ca/centre-mental-health-research-workshop/events/inco
 rporating-new-science-assessment-and-diagnosis-adhd-good
SUMMARY:Incorporating ‘new’ science into the assessment and diagnosis o
 f\nADHD: The good\, the bad\, and the role of psychology
CLASS:PUBLIC
DESCRIPTION:Incorporating ‘new’ science into the assessment and diagnos
 is of\nADHD: The good\, the bad\, and the role of psychology (PDF).\n[/cen
 tre-mental-health-research-workshop/sites/default/files/uploads/documents/
 incorporating_new_science_into_the_assessment_and_diagnosis_of_adhd_the_go
 od_the_bad_and_the_role_of_psychology.pdf]
DTSTAMP:20260312T131358Z
END:VEVENT
END:VCALENDAR