BEGIN:VCALENDAR
VERSION:2.0
PRODID:-//Drupal iCal API//EN
X-WR-CALNAME:Events items teaser
X-WR-TIMEZONE:America/Toronto
BEGIN:VTIMEZONE
TZID:America/Toronto
X-LIC-LOCATION:America/Toronto
BEGIN:DAYLIGHT
TZNAME:EDT
TZOFFSETFROM:-0500
TZOFFSETTO:-0400
DTSTART:20190310T070000
END:DAYLIGHT
BEGIN:STANDARD
TZNAME:EST
TZOFFSETFROM:-0400
TZOFFSETTO:-0500
DTSTART:20181104T060000
END:STANDARD
END:VTIMEZONE
BEGIN:VEVENT
UID:69b2c0ffb2ff9
DTSTART;TZID=America/Toronto:20190510T130000
SEQUENCE:0
TRANSP:TRANSPARENT
DTEND;TZID=America/Toronto:20190510T141500
URL:https://uwaterloo.ca/centre-mental-health-research-workshop/events/adap
 ting-individual-therapy-neurodevelopmental-disorders
SUMMARY:Adapting Individual Therapy for Neurodevelopmental Disorders
CLASS:PUBLIC
DESCRIPTION:Adapting Individual Therapy for Neurodevelopmental Disorders (P
 DF).\n[/centre-mental-health-research-workshop/sites/default/files/uploads
 /documents/adapting_therapy_for_individuals_with_nd_may_10_2019.pdf]
DTSTAMP:20260312T133455Z
END:VEVENT
END:VCALENDAR