BEGIN:VCALENDAR
VERSION:2.0
PRODID:-//Drupal iCal API//EN
X-WR-CALNAME:Events items teaser
X-WR-TIMEZONE:America/Toronto
BEGIN:VTIMEZONE
TZID:America/Toronto
X-LIC-LOCATION:America/Toronto
BEGIN:DAYLIGHT
TZNAME:EDT
TZOFFSETFROM:-0500
TZOFFSETTO:-0400
DTSTART:20200308T070000
END:DAYLIGHT
BEGIN:STANDARD
TZNAME:EST
TZOFFSETFROM:-0400
TZOFFSETTO:-0500
DTSTART:20191103T060000
END:STANDARD
END:VTIMEZONE
BEGIN:VEVENT
UID:69e0dcecd2e21
DTSTART;TZID=America/Toronto:20200327T080000
SEQUENCE:0
TRANSP:TRANSPARENT
DTEND;TZID=America/Toronto:20200327T160000
URL:https://uwaterloo.ca/centre-of-research-expertise-for-the-prevention-of
 -musculoskeletal-disorders/events/msd-prevention-paramedic-sector-ii-launc
 hing-national
SUMMARY:MSD Prevention in the Paramedic Sector II: Launching a National\nAm
 bulance Design Standard
CLASS:PUBLIC
DESCRIPTION:Join members of CRE-MSD\, Canadian Institute for Safety\, Welln
 ess &amp;\nPerformance\, CSA Group\, Paramedic Chiefs of Canada\, and the Para
 medic\nAssociation of Canada for the launch of the new Ergonomic Design\nS
 tandard for Ambulances and Related Equipment - CSA D500.
DTSTAMP:20260416T125820Z
END:VEVENT
END:VCALENDAR