BEGIN:VCALENDAR
VERSION:2.0
PRODID:-//Drupal iCal API//EN
X-WR-CALNAME:Events items teaser
X-WR-TIMEZONE:America/Toronto
BEGIN:VTIMEZONE
TZID:America/Toronto
X-LIC-LOCATION:America/Toronto
BEGIN:DAYLIGHT
TZNAME:EDT
TZOFFSETFROM:-0500
TZOFFSETTO:-0400
DTSTART:20220313T070000
END:DAYLIGHT
BEGIN:STANDARD
TZNAME:EST
TZOFFSETFROM:-0400
TZOFFSETTO:-0500
DTSTART:20211107T060000
END:STANDARD
END:VTIMEZONE
BEGIN:VEVENT
UID:69e14ebcc09be
DTSTART;TZID=America/Toronto:20220719T110000
SEQUENCE:0
TRANSP:TRANSPARENT
DTEND;TZID=America/Toronto:20220719T120000
URL:https://uwaterloo.ca/centre-of-research-expertise-for-the-prevention-of
 -musculoskeletal-disorders/events/webinar-recipe-prevention-msd-learnings-
 biomechanical
SUMMARY:Webinar - Recipe for Prevention of MSD: Learnings from Biomechanica
 l\nResponses in Team Lifting and Sudden Load Drops
CLASS:PUBLIC
DESCRIPTION:This webinar presents discussion with the masonry trade regardi
 ng\nconcerns about awkward heavy loads\, when the load is dropped by a tea
 m\nmember\, and the study that followed.
DTSTAMP:20260416T210356Z
END:VEVENT
END:VCALENDAR