BEGIN:VCALENDAR
VERSION:2.0
PRODID:-//Drupal iCal API//EN
X-WR-CALNAME:Events items teaser
X-WR-TIMEZONE:America/Toronto
BEGIN:VTIMEZONE
TZID:America/Toronto
X-LIC-LOCATION:America/Toronto
BEGIN:DAYLIGHT
TZNAME:EDT
TZOFFSETFROM:-0500
TZOFFSETTO:-0400
DTSTART:20230312T070000
END:DAYLIGHT
BEGIN:DAYLIGHT
TZNAME:EDT
TZOFFSETFROM:-0500
TZOFFSETTO:-0400
DTSTART:20240310T070000
END:DAYLIGHT
BEGIN:STANDARD
TZNAME:EST
TZOFFSETFROM:-0400
TZOFFSETTO:-0500
DTSTART:20221106T060000
END:STANDARD
BEGIN:STANDARD
TZNAME:EST
TZOFFSETFROM:-0400
TZOFFSETTO:-0500
DTSTART:20231105T060000
END:STANDARD
END:VTIMEZONE
BEGIN:VEVENT
UID:69e02de9c9dbc
DTSTART;VALUE=DATE:20230401
SEQUENCE:0
TRANSP:TRANSPARENT
DTEND;VALUE=DATE:20240401
URL:https://uwaterloo.ca/centre-of-research-expertise-for-the-prevention-of
 -musculoskeletal-disorders/events/msd-prevention-campaign-health-care-and-
 community-care-2023
SUMMARY:MSD Prevention Campaign in Health Care and Community Care 2023-2024
 \n(supported by PSHSA and CRE-MSD)
CLASS:PUBLIC
DESCRIPTION:The Ministry of Labour\, Immigration\, Training and Skills Deve
 lopment\n(MLITSD) is running a health and safety inspection compliance cam
 paign\non musculoskeletal disorder (MSD) prevenion in the Health Care an
 d\nCommunity Care sector.
X-MICROSOFT-CDO-ALLDAYEVENT:TRUE
DTSTAMP:20260416T003137Z
END:VEVENT
END:VCALENDAR