BEGIN:VCALENDAR
VERSION:2.0
PRODID:-//Drupal iCal API//EN
X-WR-CALNAME:Events items teaser
X-WR-TIMEZONE:America/Toronto
BEGIN:VTIMEZONE
TZID:America/Toronto
X-LIC-LOCATION:America/Toronto
BEGIN:DAYLIGHT
TZNAME:EDT
TZOFFSETFROM:-0500
TZOFFSETTO:-0400
DTSTART:20230312T070000
END:DAYLIGHT
BEGIN:STANDARD
TZNAME:EST
TZOFFSETFROM:-0400
TZOFFSETTO:-0500
DTSTART:20221106T060000
END:STANDARD
END:VTIMEZONE
BEGIN:VEVENT
UID:69e02de7ba64e
DTSTART;TZID=America/Toronto:20231018T110000
SEQUENCE:0
TRANSP:TRANSPARENT
DTEND;TZID=America/Toronto:20231018T120000
URL:https://uwaterloo.ca/centre-of-research-expertise-for-the-prevention-of
 -musculoskeletal-disorders/events/webinar-characteristics-work-related-mus
 culoskeletal-upper
SUMMARY:Webinar - Characteristics of Work-Related Musculoskeletal Upper\nEx
 tremity Injury Claims Across Canada From 2000-2019
CLASS:PUBLIC
DESCRIPTION:Join CRE-MSD to learn about who may be at risk of upper extrem
 ity\ndisorders based on both personal and work-related risk factors. These
 \nrisk factors were derived from an analysis of worker’s compensation\nc
 laims data from 2000-2019 from the Association of Worker’s\nCompensation
  Boards of Canada (AWCBC).
DTSTAMP:20260416T003135Z
END:VEVENT
END:VCALENDAR