BEGIN:VCALENDAR
VERSION:2.0
PRODID:-//Drupal iCal API//EN
X-WR-CALNAME:Events items teaser
X-WR-TIMEZONE:America/Toronto
BEGIN:VTIMEZONE
TZID:America/Toronto
X-LIC-LOCATION:America/Toronto
BEGIN:DAYLIGHT
TZNAME:EDT
TZOFFSETFROM:-0500
TZOFFSETTO:-0400
DTSTART:20230312T070000
END:DAYLIGHT
BEGIN:STANDARD
TZNAME:EST
TZOFFSETFROM:-0400
TZOFFSETTO:-0500
DTSTART:20231105T060000
END:STANDARD
END:VTIMEZONE
BEGIN:VEVENT
UID:69ea39caedf9e
DTSTART;TZID=America/Toronto:20231213T120000
SEQUENCE:0
TRANSP:TRANSPARENT
DTEND;TZID=America/Toronto:20231213T130000
URL:https://uwaterloo.ca/centre-of-research-expertise-for-the-prevention-of
 -musculoskeletal-disorders/events/webinar-development-survey-explore-workp
 lace-risk-factors
SUMMARY:Webinar - Development of a Survey to Explore Workplace Risk Factors
 \nand Hazards Common to Both Musculoskeletal and Psychological Injury
CLASS:PUBLIC
DESCRIPTION:A survey tool was developed to determine the work-related risk 
 factors\nand hazards common to both MSD and psychological injury outcomes 
 in\nworkplaces. This webinar will provide the results of this survey\nto
 ol\, identifying the common risk factors to facilitate a more\ncomplete ri
 sk assessment. The use of this tool will support both MSD\nprevention and 
 psychological health in the workplace.
DTSTAMP:20260423T152458Z
END:VEVENT
END:VCALENDAR