BEGIN:VCALENDAR
VERSION:2.0
PRODID:-//Drupal iCal API//EN
X-WR-CALNAME:Events items teaser
X-WR-TIMEZONE:America/Toronto
BEGIN:VTIMEZONE
TZID:America/Toronto
X-LIC-LOCATION:America/Toronto
BEGIN:DAYLIGHT
TZNAME:EDT
TZOFFSETFROM:-0500
TZOFFSETTO:-0400
DTSTART:20250309T070000
END:DAYLIGHT
BEGIN:STANDARD
TZNAME:EST
TZOFFSETFROM:-0400
TZOFFSETTO:-0500
DTSTART:20241103T060000
END:STANDARD
END:VTIMEZONE
BEGIN:VEVENT
UID:69e54e696ff66
DTSTART;TZID=America/Toronto:20250528T120000
SEQUENCE:0
TRANSP:TRANSPARENT
DTEND;TZID=America/Toronto:20250528T130000
URL:https://uwaterloo.ca/centre-of-research-expertise-for-the-prevention-of
 -musculoskeletal-disorders/events/webinar-vibration-exposures-arborists-do
 -cut-types-and
SUMMARY:Webinar - Vibration Exposures in Arborists – Do Cut Types and\nDi
 rections Make a Difference for MSD Prevention?
CLASS:PUBLIC
DESCRIPTION:Arborists are exposed to repetitive tasks with forceful exertio
 ns\,\nalong with vibration\, noise\, and environmental factors\, which all
 \ncontribute to the risk of injury. This webinar will share the results\no
 f research that examined hand-arm vibration to the upper extremity in\narb
 orists while completing common tree abatement tasks\, as well as the\neffe
 cts of these exposures on fine motor control.
DTSTAMP:20260419T215137Z
END:VEVENT
END:VCALENDAR