BEGIN:VCALENDAR
VERSION:2.0
PRODID:-//Drupal iCal API//EN
X-WR-CALNAME:Events items teaser
X-WR-TIMEZONE:America/Toronto
BEGIN:VTIMEZONE
TZID:America/Toronto
X-LIC-LOCATION:America/Toronto
BEGIN:DAYLIGHT
TZNAME:EDT
TZOFFSETFROM:-0500
TZOFFSETTO:-0400
DTSTART:20250309T070000
END:DAYLIGHT
BEGIN:STANDARD
TZNAME:EST
TZOFFSETFROM:-0400
TZOFFSETTO:-0500
DTSTART:20241103T060000
END:STANDARD
END:VTIMEZONE
BEGIN:VEVENT
UID:69e15016c26b0
DTSTART;TZID=America/Toronto:20251001T083000
SEQUENCE:0
TRANSP:TRANSPARENT
DTEND;TZID=America/Toronto:20251001T153000
URL:https://uwaterloo.ca/centre-of-research-expertise-for-the-prevention-of
 -musculoskeletal-disorders/2025-conference
SUMMARY:Where Health and Safety Programs Meet MSD Prevention: The Journey F
 rom\nIdea to Implementation
CLASS:PUBLIC
DESCRIPTION:This conference will include case studies of program implementa
 tion\nstrategies from a wide range of industries. Learn how evidence-base
 d\napproaches have been implemented to create impactful outcomes such as\n
 cost savings\, increased productivity\, and reduction in MSD. 
DTSTAMP:20260416T210942Z
END:VEVENT
END:VCALENDAR