BEGIN:VCALENDAR
VERSION:2.0
PRODID:-//Drupal iCal API//EN
X-WR-CALNAME:Events items teaser
X-WR-TIMEZONE:America/Toronto
BEGIN:VTIMEZONE
TZID:America/Toronto
X-LIC-LOCATION:America/Toronto
BEGIN:DAYLIGHT
TZNAME:EDT
TZOFFSETFROM:-0500
TZOFFSETTO:-0400
DTSTART:20260308T070000
END:DAYLIGHT
BEGIN:STANDARD
TZNAME:EST
TZOFFSETFROM:-0400
TZOFFSETTO:-0500
DTSTART:20251102T060000
END:STANDARD
END:VTIMEZONE
BEGIN:VEVENT
UID:69e5f2782c103
DTSTART;TZID=America/Toronto:20260622T120000
SEQUENCE:0
TRANSP:TRANSPARENT
DTEND;TZID=America/Toronto:20260622T130000
URL:https://uwaterloo.ca/centre-of-research-expertise-for-the-prevention-of
 -musculoskeletal-disorders/events/client-handling-program-resources-canadi
 an-scan
SUMMARY:Client Handling Program Resources: A Canadian Scan
CLASS:PUBLIC
DESCRIPTION:This webinar will share an overview of Canadian client-handling
 \nprograms\, approaches\, key content areas\, and available tools.\nPartic
 ipants will also have the opportunity to highlight their own\nprogram gaps
  and needs\, helping to inform future resource development\nfor Ontario.
DTSTAMP:20260420T093136Z
END:VEVENT
END:VCALENDAR