BEGIN:VCALENDAR
VERSION:2.0
PRODID:-//Drupal iCal API//EN
X-WR-CALNAME:Events items teaser
X-WR-TIMEZONE:America/Toronto
BEGIN:VTIMEZONE
TZID:America/Toronto
X-LIC-LOCATION:America/Toronto
BEGIN:DAYLIGHT
TZNAME:EDT
TZOFFSETFROM:-0500
TZOFFSETTO:-0400
DTSTART:20260308T070000
END:DAYLIGHT
BEGIN:STANDARD
TZNAME:EST
TZOFFSETFROM:-0400
TZOFFSETTO:-0500
DTSTART:20251102T060000
END:STANDARD
END:VTIMEZONE
BEGIN:VEVENT
UID:69e5880757ba7
DTSTART;TZID=America/Toronto:20260428T120000
SEQUENCE:0
TRANSP:TRANSPARENT
DTEND;TZID=America/Toronto:20260428T130000
URL:https://uwaterloo.ca/centre-of-research-expertise-for-the-prevention-of
 -musculoskeletal-disorders/peer-chat-April-2026
SUMMARY:Peer Chat: A New Engagement Session for the Client/Patient Handling
 \nCommunity of Practice
CLASS:PUBLIC
DESCRIPTION:Our first Peer Chat session introduces a new method of CoP mem
 ber\nengagement focused on discussion\, peer support\, and shared\nproblem
 -solving. This interactive virtual session will bring together\nsmall gro
 ups of practitioners to exchange challenges\, strategies\, and\npractical 
 approaches related to performing client and patient care in\nawkward post
 ures.
DTSTAMP:20260420T015727Z
END:VEVENT
END:VCALENDAR