BEGIN:VCALENDAR
VERSION:2.0
PRODID:-//Drupal iCal API//EN
X-WR-CALNAME:Events items teaser
X-WR-TIMEZONE:America/Toronto
BEGIN:VTIMEZONE
TZID:America/Toronto
X-LIC-LOCATION:America/Toronto
BEGIN:DAYLIGHT
TZNAME:EDT
TZOFFSETFROM:-0500
TZOFFSETTO:-0400
DTSTART:20170312T070000
END:DAYLIGHT
BEGIN:STANDARD
TZNAME:EST
TZOFFSETFROM:-0400
TZOFFSETTO:-0500
DTSTART:20161106T060000
END:STANDARD
END:VTIMEZONE
BEGIN:VEVENT
UID:69e5f3d0c2c04
DTSTART;TZID=America/Toronto:20171006T120000
SEQUENCE:0
TRANSP:TRANSPARENT
DTEND;TZID=America/Toronto:20171006T130000
URL:https://uwaterloo.ca/centre-of-research-expertise-for-the-prevention-of
 -musculoskeletal-disorders/events/webinar-exercise-based-msd-prevention-pr
 ograms-development-0
SUMMARY:Webinar - Exercise-based MSD prevention programs: Development of a\
 ndaily movement practice strategy to facilitate implementation and\nsustai
 nability (Fall 2017)
CLASS:PUBLIC
DESCRIPTION:This is a free webinar offered through the client/patient hand
 ling\ncommunity of practice (CoP)\, presented in partnership with CRE-MSD 
 and\nPSHSA. 
DTSTAMP:20260420T093720Z
END:VEVENT
END:VCALENDAR