BEGIN:VCALENDAR
VERSION:2.0
PRODID:-//Drupal iCal API//EN
X-WR-CALNAME:Events items teaser
X-WR-TIMEZONE:America/Toronto
BEGIN:VTIMEZONE
TZID:America/Toronto
X-LIC-LOCATION:America/Toronto
BEGIN:DAYLIGHT
TZNAME:EDT
TZOFFSETFROM:-0500
TZOFFSETTO:-0400
DTSTART:20180311T070000
END:DAYLIGHT
BEGIN:STANDARD
TZNAME:EST
TZOFFSETFROM:-0400
TZOFFSETTO:-0500
DTSTART:20171105T060000
END:STANDARD
END:VTIMEZONE
BEGIN:VEVENT
UID:69e02de004d6d
DTSTART;TZID=America/Toronto:20180530T120000
SEQUENCE:0
TRANSP:TRANSPARENT
DTEND;TZID=America/Toronto:20180530T130000
URL:https://uwaterloo.ca/centre-of-research-expertise-for-the-prevention-of
 -musculoskeletal-disorders/events/webinar-exposing-link-between-msd-and-le
 an-production-what
SUMMARY:Webinar - Exposing the link between MSD and lean production: What\n
 makes lean dangerous?
CLASS:PUBLIC
DESCRIPTION:This talk will present a case study that exposes a mechanism by
  which\nefficiency improvement approaches like “lean production” can\n
 increase MSD risk.
DTSTAMP:20260416T003128Z
END:VEVENT
END:VCALENDAR