BEGIN:VCALENDAR
VERSION:2.0
PRODID:-//Drupal iCal API//EN
X-WR-CALNAME:Events items teaser
X-WR-TIMEZONE:America/Toronto
BEGIN:VTIMEZONE
TZID:America/Toronto
X-LIC-LOCATION:America/Toronto
BEGIN:DAYLIGHT
TZNAME:EDT
TZOFFSETFROM:-0500
TZOFFSETTO:-0400
DTSTART:20160313T070000
END:DAYLIGHT
BEGIN:STANDARD
TZNAME:EST
TZOFFSETFROM:-0400
TZOFFSETTO:-0500
DTSTART:20161106T060000
END:STANDARD
END:VTIMEZONE
BEGIN:VEVENT
UID:69b153f29bda2
DTSTART;TZID=America/Toronto:20161215T140000
SEQUENCE:0
TRANSP:TRANSPARENT
DTEND;TZID=America/Toronto:20161215T160000
URL:https://uwaterloo.ca/centre-pavement-transportation-technology/events/c
 patt-lab-open-house
LOCATION:E3 - Engineering 3 200 University Avenue West 2142 Waterloo ON N2L
  3G1 Canada
SUMMARY:CPATT Lab Open House
CLASS:PUBLIC
DESCRIPTION:CPATT Lab Open House
DTSTAMP:20260311T113722Z
END:VEVENT
END:VCALENDAR