BEGIN:VCALENDAR
VERSION:2.0
PRODID:-//Drupal iCal API//EN
X-WR-CALNAME:Events items teaser
X-WR-TIMEZONE:America/Toronto
BEGIN:VTIMEZONE
TZID:America/Toronto
X-LIC-LOCATION:America/Toronto
BEGIN:DAYLIGHT
TZNAME:EDT
TZOFFSETFROM:-0500
TZOFFSETTO:-0400
DTSTART:20250309T070000
END:DAYLIGHT
BEGIN:STANDARD
TZNAME:EST
TZOFFSETFROM:-0400
TZOFFSETTO:-0500
DTSTART:20241103T060000
END:STANDARD
END:VTIMEZONE
BEGIN:VEVENT
UID:69e4c9c84ed6a
DTSTART;TZID=America/Toronto:20251024T130000
SEQUENCE:0
TRANSP:TRANSPARENT
DTEND;TZID=America/Toronto:20251024T170000
URL:https://uwaterloo.ca/centre-peace-advancement/events/chat-bus-tour
LOCATION:CGR - Conrad Grebel University 140 Westmount Road North Waterloo O
 N N2L 3G6 Canada
SUMMARY:CHAT Bus Tour
CLASS:PUBLIC
DESCRIPTION:Visit the Combatting Hate Action Table (CHAT) as they stop at C
 onrad\nGrebel as part of their wider tour and campaign across KW. A GRT bu
 s\nwith anti-hate messaging and informational activities will be\ntravelli
 ng around the region bringing messages of inclusion and\nbelonging. 
DTSTAMP:20260419T122544Z
END:VEVENT
END:VCALENDAR