BEGIN:VCALENDAR
VERSION:2.0
PRODID:-//Drupal iCal API//EN
X-WR-CALNAME:Events items teaser
X-WR-TIMEZONE:America/Toronto
BEGIN:VTIMEZONE
TZID:America/Toronto
X-LIC-LOCATION:America/Toronto
BEGIN:DAYLIGHT
TZNAME:EDT
TZOFFSETFROM:-0500
TZOFFSETTO:-0400
DTSTART:20260308T070000
END:DAYLIGHT
BEGIN:STANDARD
TZNAME:EST
TZOFFSETFROM:-0400
TZOFFSETTO:-0500
DTSTART:20251102T060000
END:STANDARD
END:VTIMEZONE
BEGIN:VEVENT
UID:69e5a6e05b015
DTSTART;TZID=America/Toronto:20260407T120000
SEQUENCE:0
TRANSP:TRANSPARENT
DTEND;TZID=America/Toronto:20260407T140000
URL:https://uwaterloo.ca/centre-peace-advancement/events/map-system-campus-
 finals
LOCATION:CGR - Conrad Grebel University 140 Westmount Road North Great Hall
  Level 1 Waterloo ON N2L 3G6 Canada
SUMMARY:Map the System Campus Finals
CLASS:PUBLIC
DESCRIPTION:After two months of hard work and research from the Map the Sys
 tem\nparticipants\, in April they will have the opportunity to present the
 ir\nsystem maps to judges and an audience!
DTSTAMP:20260420T040904Z
END:VEVENT
END:VCALENDAR