BEGIN:VCALENDAR
VERSION:2.0
PRODID:-//Drupal iCal API//EN
X-WR-CALNAME:Events items teaser
X-WR-TIMEZONE:America/Toronto
BEGIN:VTIMEZONE
TZID:America/Toronto
X-LIC-LOCATION:America/Toronto
BEGIN:DAYLIGHT
TZNAME:EDT
TZOFFSETFROM:-0500
TZOFFSETTO:-0400
DTSTART:20240310T070000
END:DAYLIGHT
BEGIN:STANDARD
TZNAME:EST
TZOFFSETFROM:-0400
TZOFFSETTO:-0500
DTSTART:20231105T060000
END:STANDARD
END:VTIMEZONE
BEGIN:VEVENT
UID:69ec2ace72a2a
DTSTART;TZID=America/Toronto:20240906T150000
SEQUENCE:0
TRANSP:TRANSPARENT
DTEND;TZID=America/Toronto:20240906T160000
URL:https://uwaterloo.ca/chemical-engineering/events/seminar-catalyzing-sus
 tainable-future-dr-junjie-chen
LOCATION:E6 - Engineering 6 Room 4022 200 University Ave West Waterloo ON N
 2L 3G1 Canada
SUMMARY:Seminar| Catalyzing a Sustainable Future by Dr. Junjie Chen
CLASS:PUBLIC
DESCRIPTION:Heterogeneous catalysis stands as a cornerstone of the modern c
 hemical\nindustry\, with the pursuit of more efficient catalysts at its\nf
 orefront.  The inadequacy of sufficiently efficient catalytic\nmaterials 
 emerges as the primary limiting factor\, hindering the\nbroader applicatio
 n of many sustainable technologies.  Enhancements\nin catalyst activity\,
  selectivity\, and stability are crucial for\nadvancing toward a sustainab
 le future.  Additionally\, understanding\nthe dynamic nature of catalysts
  under reaction conditions is essential\nfor more efficient catalyst desig
 n.
DTSTAMP:20260425T024534Z
END:VEVENT
END:VCALENDAR