BEGIN:VCALENDAR
VERSION:2.0
PRODID:-//Drupal iCal API//EN
X-WR-CALNAME:Events items teaser
X-WR-TIMEZONE:America/Toronto
BEGIN:VTIMEZONE
TZID:America/Toronto
X-LIC-LOCATION:America/Toronto
BEGIN:DAYLIGHT
TZNAME:EDT
TZOFFSETFROM:-0500
TZOFFSETTO:-0400
DTSTART:20250309T070000
END:DAYLIGHT
BEGIN:STANDARD
TZNAME:EST
TZOFFSETFROM:-0400
TZOFFSETTO:-0500
DTSTART:20241103T060000
END:STANDARD
END:VTIMEZONE
BEGIN:VEVENT
UID:69ec2fb317266
DTSTART;TZID=America/Toronto:20251027T160000
SEQUENCE:0
TRANSP:TRANSPARENT
DTEND;TZID=America/Toronto:20251027T180000
URL:https://uwaterloo.ca/chemical-engineering/events/i2i-invention-innovati
 on-grad-student-and-post-doc
LOCATION:GH - Graduate House 200 University Avenue West\, Upstairs Lounge W
 aterloo ON N2L 3G1 Canada
SUMMARY:i2I: Invention to Innovation Grad Student and Post-doc Networking\n
 Event
CLASS:PUBLIC
DESCRIPTION:Grad and Post-doc Networking event
DTSTAMP:20260425T030627Z
END:VEVENT
END:VCALENDAR