BEGIN:VCALENDAR
VERSION:2.0
PRODID:-//Drupal iCal API//EN
X-WR-CALNAME:Events items teaser
X-WR-TIMEZONE:America/Toronto
BEGIN:VTIMEZONE
TZID:America/Toronto
X-LIC-LOCATION:America/Toronto
BEGIN:DAYLIGHT
TZNAME:EDT
TZOFFSETFROM:-0500
TZOFFSETTO:-0400
DTSTART:20160313T070000
END:DAYLIGHT
BEGIN:STANDARD
TZNAME:EST
TZOFFSETFROM:-0400
TZOFFSETTO:-0500
DTSTART:20151101T060000
END:STANDARD
END:VTIMEZONE
BEGIN:VEVENT
UID:69e5dc47f2b63
DTSTART;TZID=America/Toronto:20160408T090000
SEQUENCE:0
TRANSP:TRANSPARENT
DTEND;TZID=America/Toronto:20160408T090000
URL:https://uwaterloo.ca/chemical-engineering/events/notice-phd-oral-defenc
 e-simultaneous-removal-ammonia-and
LOCATION:E6 - Engineering 6 200 University Ave West 2022 Waterloo ON N2L 3G
 1 Canada
SUMMARY:Notice of PhD Oral Defence \"Simultaneous Removal of Ammonia and\nP
 hosphorus from Wastewater in a Continuous Flow Vertical Bioreactor\"\nby M
 aryam Reza
CLASS:PUBLIC
DTSTAMP:20260420T075655Z
END:VEVENT
END:VCALENDAR