BEGIN:VCALENDAR
VERSION:2.0
PRODID:-//Drupal iCal API//EN
X-WR-CALNAME:Events items teaser
X-WR-TIMEZONE:America/Toronto
BEGIN:VTIMEZONE
TZID:America/Toronto
X-LIC-LOCATION:America/Toronto
BEGIN:DAYLIGHT
TZNAME:EDT
TZOFFSETFROM:-0500
TZOFFSETTO:-0400
DTSTART:20160313T070000
END:DAYLIGHT
BEGIN:STANDARD
TZNAME:EST
TZOFFSETFROM:-0400
TZOFFSETTO:-0500
DTSTART:20151101T060000
END:STANDARD
END:VTIMEZONE
BEGIN:VEVENT
UID:69e4c988a8407
DTSTART;TZID=America/Toronto:20160713T090000
SEQUENCE:0
TRANSP:TRANSPARENT
DTEND;TZID=America/Toronto:20160713T090000
URL:https://uwaterloo.ca/chemical-engineering/events/notice-phd-oral-defenc
 e-metabolite-concentration-flux
LOCATION:E6-2022 Canada
SUMMARY:Notice of PhD Oral Defence - \"From Metabolite Concentration to Flu
 x-A\nSystematic Assessment of Error in Cell Culture Metabolomics\" by\nSta
 nislav Sokolenko
CLASS:PUBLIC
DTSTAMP:20260419T122440Z
END:VEVENT
END:VCALENDAR