BEGIN:VCALENDAR
VERSION:2.0
PRODID:-//Drupal iCal API//EN
X-WR-CALNAME:Events items teaser
X-WR-TIMEZONE:America/Toronto
BEGIN:VTIMEZONE
TZID:America/Toronto
X-LIC-LOCATION:America/Toronto
BEGIN:DAYLIGHT
TZNAME:EDT
TZOFFSETFROM:-0500
TZOFFSETTO:-0400
DTSTART:20170312T070000
END:DAYLIGHT
BEGIN:STANDARD
TZNAME:EST
TZOFFSETFROM:-0400
TZOFFSETTO:-0500
DTSTART:20161106T060000
END:STANDARD
END:VTIMEZONE
BEGIN:VEVENT
UID:69ea88e912268
DTSTART;TZID=America/Toronto:20170721T113000
SEQUENCE:0
TRANSP:TRANSPARENT
DTEND;TZID=America/Toronto:20170721T113000
URL:https://uwaterloo.ca/chemical-engineering/events/seminar-pressure-sensi
 tive-adhesives-related-products-3m
LOCATION:E6-2024 Canada
SUMMARY:Seminar - “Pressure Sensitive Adhesives &amp; Related Products: A 3M\
 nCore Technology Platform”\, Prince Antony\, Senior Scientist\, 3M\nCana
 da\, London\, ON
CLASS:PUBLIC
DESCRIPTION:ABSTRACT:  Pressure Sensitive Adhesives (PSA’s) are adhesive
 \n[https://en.wikipedia.org/wiki/Adhesive]s which forms a bond when\npress
 ure [https://en.wikipedia.org/wiki/Pressure] is applied between\nthe adhes
 ive and the adhered (substrate). PSA is tacky at room\ntemperature and req
 uires no activation by water\, solvent or heat to\nform a strong bond. Gla
 ss transition temperature (Tg) of the adhesive\nis well below the room tem
 perature.
DTSTAMP:20260423T210233Z
END:VEVENT
END:VCALENDAR