BEGIN:VCALENDAR
VERSION:2.0
PRODID:-//Drupal iCal API//EN
X-WR-CALNAME:Events items teaser
X-WR-TIMEZONE:America/Toronto
BEGIN:VTIMEZONE
TZID:America/Toronto
X-LIC-LOCATION:America/Toronto
BEGIN:DAYLIGHT
TZNAME:EDT
TZOFFSETFROM:-0500
TZOFFSETTO:-0400
DTSTART:20170312T070000
END:DAYLIGHT
BEGIN:STANDARD
TZNAME:EST
TZOFFSETFROM:-0400
TZOFFSETTO:-0500
DTSTART:20161106T060000
END:STANDARD
END:VTIMEZONE
BEGIN:VEVENT
UID:69ea922da64c9
DTSTART;TZID=America/Toronto:20170928T110000
SEQUENCE:0
TRANSP:TRANSPARENT
DTEND;TZID=America/Toronto:20170928T110000
URL:https://uwaterloo.ca/chemical-engineering/events/seminar-successful-inn
 ovation-dr-hadi-mahabadi-oc-fcae-fcic
LOCATION:E6-4022 Canada
SUMMARY:Seminar - “Successful Innovation”\, by Dr. HADI MAHABADI\, O.C.
 \,\nFCAE\, FCIC\, President of CanWin Consulting Inc.
CLASS:PUBLIC
DESCRIPTION:ABSTRACT:  It appears that innovation means at least several t
 hings\nto different people – any new product or service\, value creation
  or\na particular “culture of innovation.” But these and many other\n
 “interpretations” of innovation are less meaningless\, as this\nauthor
  believes In fact the only thing that matters is whether an\ninnovation cr
 eates impacts such as wealth / job creation and social\nadvancement. And t
 he only metric for determining that wealth is net\ncash flow.
DTSTAMP:20260423T214205Z
END:VEVENT
END:VCALENDAR