BEGIN:VCALENDAR
VERSION:2.0
PRODID:-//Drupal iCal API//EN
X-WR-CALNAME:Events items teaser
X-WR-TIMEZONE:America/Toronto
BEGIN:VTIMEZONE
TZID:America/Toronto
X-LIC-LOCATION:America/Toronto
BEGIN:DAYLIGHT
TZNAME:EDT
TZOFFSETFROM:-0500
TZOFFSETTO:-0400
DTSTART:20170312T070000
END:DAYLIGHT
BEGIN:STANDARD
TZNAME:EST
TZOFFSETFROM:-0400
TZOFFSETTO:-0500
DTSTART:20171105T060000
END:STANDARD
END:VTIMEZONE
BEGIN:VEVENT
UID:69e6abc46f20f
DTSTART;TZID=America/Toronto:20171207T153000
SEQUENCE:0
TRANSP:TRANSPARENT
DTEND;TZID=America/Toronto:20171207T153000
URL:https://uwaterloo.ca/chemical-engineering/events/seminar-tips-how-write
 -and-submit-successful-paper-joao-b-p
LOCATION:E6-2024 Canada
SUMMARY:Seminar - “Tips on How to Write and Submit a Successful Paper” 
 by\nJoão B P Soares\, Editor-in-Chief\, Canadian Journal of Chemical\nEng
 ineering\, Department of Chemical and Materials Engineering\,\nUniversity 
 of Alberta
CLASS:PUBLIC
DESCRIPTION:ABSTRACT:  In this presentation\, you will learn how to integr
 ate\nmanuscript preparation into your daily routine\, how to efficiently\n
 prepare a clear and well-organized manuscript\, how the review process\nwo
 rks\, how to expedite your manuscript’s review and acceptance\, and\nabo
 ut future trends and developments in scientific publishing. This\npresenta
 tion is intended for early-career chemical engineering\nprofessionals: gra
 duate students\, post-doctoral fellows\, new faculty\nmembers and new indu
 strial researchers.
DTSTAMP:20260420T224212Z
END:VEVENT
END:VCALENDAR