BEGIN:VCALENDAR
VERSION:2.0
PRODID:-//Drupal iCal API//EN
X-WR-CALNAME:Events items teaser
X-WR-TIMEZONE:America/Toronto
BEGIN:VTIMEZONE
TZID:America/Toronto
X-LIC-LOCATION:America/Toronto
BEGIN:DAYLIGHT
TZNAME:EDT
TZOFFSETFROM:-0500
TZOFFSETTO:-0400
DTSTART:20170312T070000
END:DAYLIGHT
BEGIN:STANDARD
TZNAME:EST
TZOFFSETFROM:-0400
TZOFFSETTO:-0500
DTSTART:20171105T060000
END:STANDARD
END:VTIMEZONE
BEGIN:VEVENT
UID:69e4c97ea84e7
DTSTART;TZID=America/Toronto:20180109T103000
SEQUENCE:0
TRANSP:TRANSPARENT
DTEND;TZID=America/Toronto:20180109T103000
URL:https://uwaterloo.ca/chemical-engineering/events/notice-phd-oral-defenc
 e-run-run-optimization-biochemical-0
LOCATION:E6-2022 Canada
SUMMARY:Notice of PhD Oral Defence - \"Run-to-Run Optimization of Biochemic
 al\nBatch Processes in the Presence of Model-Plant Mismatch\" by Rubin\nHi
 lle
CLASS:PUBLIC
DTSTAMP:20260419T122430Z
END:VEVENT
END:VCALENDAR