BEGIN:VCALENDAR
VERSION:2.0
PRODID:-//Drupal iCal API//EN
X-WR-CALNAME:Events items teaser
X-WR-TIMEZONE:America/Toronto
BEGIN:VTIMEZONE
TZID:America/Toronto
X-LIC-LOCATION:America/Toronto
BEGIN:DAYLIGHT
TZNAME:EDT
TZOFFSETFROM:-0500
TZOFFSETTO:-0400
DTSTART:20180311T070000
END:DAYLIGHT
BEGIN:STANDARD
TZNAME:EST
TZOFFSETFROM:-0400
TZOFFSETTO:-0500
DTSTART:20171105T060000
END:STANDARD
END:VTIMEZONE
BEGIN:VEVENT
UID:69e621c9e62bd
DTSTART;TZID=America/Toronto:20180409T110000
SEQUENCE:0
TRANSP:TRANSPARENT
DTEND;TZID=America/Toronto:20180409T110000
URL:https://uwaterloo.ca/chemical-engineering/events/2018-park-reilly-disti
 nguished-lecture-promise-artificial
LOCATION:Engineering 6 E6-2024 Canada
SUMMARY:2018 Park Reilly Distinguished Lecture | The Promise of Artificial\
 nIntelligence in Process Systems Engineering: Is it Here\, Finally?\, by\n
 Venkat Venkatasubramanian
CLASS:PUBLIC
DESCRIPTION:Professor Venkatasubramanian will review the different phases o
 f\nArtificial intelligence (AI) in process systems engineering (PSE) over\
 nthe past 30 years and argue that the time for AI in PSE\, and in other\n
 domains\, has arrived\, finally.
DTSTAMP:20260420T125329Z
END:VEVENT
END:VCALENDAR