BEGIN:VCALENDAR
VERSION:2.0
PRODID:-//Drupal iCal API//EN
X-WR-CALNAME:Events items teaser
X-WR-TIMEZONE:America/Toronto
BEGIN:VTIMEZONE
TZID:America/Toronto
X-LIC-LOCATION:America/Toronto
BEGIN:DAYLIGHT
TZNAME:EDT
TZOFFSETFROM:-0500
TZOFFSETTO:-0400
DTSTART:20180311T070000
END:DAYLIGHT
BEGIN:STANDARD
TZNAME:EST
TZOFFSETFROM:-0400
TZOFFSETTO:-0500
DTSTART:20171105T060000
END:STANDARD
END:VTIMEZONE
BEGIN:VEVENT
UID:69e817458c4b3
DTSTART;TZID=America/Toronto:20180713T220000
SEQUENCE:0
TRANSP:TRANSPARENT
DTEND;TZID=America/Toronto:20180713T220000
URL:https://uwaterloo.ca/chemical-engineering/events/phd-defence-design-nov
 el-titanium-dioxide-based
LOCATION:E6 - Engineering 6 200 University Ave West E6-2022 Waterloo ON N2L
  3G1 Canada
SUMMARY:PhD Defence | Design of Novel Titanium Dioxide-based Multifunctiona
 l\nElectrochemical Cells\, by Gregory Lui
CLASS:PUBLIC
DESCRIPTION:Supervisors: Aiping Yu\, Chemical Engineering and Michael Fowl
 er\,\nChemical Engineering
DTSTAMP:20260422T003309Z
END:VEVENT
END:VCALENDAR