BEGIN:VCALENDAR
VERSION:2.0
PRODID:-//Drupal iCal API//EN
X-WR-CALNAME:Events items teaser
X-WR-TIMEZONE:America/Toronto
BEGIN:VTIMEZONE
TZID:America/Toronto
X-LIC-LOCATION:America/Toronto
BEGIN:DAYLIGHT
TZNAME:EDT
TZOFFSETFROM:-0500
TZOFFSETTO:-0400
DTSTART:20190310T070000
END:DAYLIGHT
BEGIN:STANDARD
TZNAME:EST
TZOFFSETFROM:-0400
TZOFFSETTO:-0500
DTSTART:20181104T060000
END:STANDARD
END:VTIMEZONE
BEGIN:VEVENT
UID:69ecfbf7468ba
DTSTART;TZID=America/Toronto:20190617T113000
SEQUENCE:0
TRANSP:TRANSPARENT
DTEND;TZID=America/Toronto:20190617T113000
URL:https://uwaterloo.ca/chemical-engineering/events/seminar-evolving-lands
 cape-chemical-industry-jeffrey-s
LOCATION:E6 - Engineering 6 200 University Ave West E6-2024 Waterloo ON N2L
  3G1 Canada
SUMMARY:Seminar | Evolving Landscape in the Chemical Industry\, by Jeffrey 
 S.\nDowney\, PhD
CLASS:PUBLIC
DESCRIPTION:Please join the Department of Chemical Engineering on Monday\, 
 June 17\,\nfor a seminar by Dr. Jeffrey S. Downey\, Technical Manager Sci
 ence and\nInnovation The Kingston Technology Centre and Managing Director
  of\nInnovation for DuPont Canada. \n\nDr. Downey will discuss the merger
  of Dow Chemical and E.I. DuPont and\nthe recent separation into three ind
 ustry leading companies. In\naddition\, he will discuss the opportunities
  that this has created in\nCanada and how the Kingston Technology Centre h
 as become integral to\nthe future of the new DuPont. 
DTSTAMP:20260425T173759Z
END:VEVENT
END:VCALENDAR