BEGIN:VCALENDAR
VERSION:2.0
PRODID:-//Drupal iCal API//EN
X-WR-CALNAME:Events items teaser
X-WR-TIMEZONE:America/Toronto
BEGIN:VTIMEZONE
TZID:America/Toronto
X-LIC-LOCATION:America/Toronto
BEGIN:DAYLIGHT
TZNAME:EDT
TZOFFSETFROM:-0500
TZOFFSETTO:-0400
DTSTART:20190310T070000
END:DAYLIGHT
BEGIN:STANDARD
TZNAME:EST
TZOFFSETFROM:-0400
TZOFFSETTO:-0500
DTSTART:20181104T060000
END:STANDARD
END:VTIMEZONE
BEGIN:VEVENT
UID:69ecfc0832f73
DTSTART;TZID=America/Toronto:20190625T110000
SEQUENCE:0
TRANSP:TRANSPARENT
DTEND;TZID=America/Toronto:20190625T110000
URL:https://uwaterloo.ca/chemical-engineering/events/seminar-doped-carbon-a
 nd-graphene-materials-electrochemical
LOCATION:QNC - Quantum Nano Centre 200 University Avenue West Waterloo ON N
 2L 3G1 Canada
SUMMARY:Seminar | Doped Carbon and Graphene Materials for Electrochemical\n
 Applications\, by Dr. Edward Roberts
CLASS:PUBLIC
DESCRIPTION:The Department of Chemical Engineering and the Waterloo Institu
 te for\nNanotechnology invite you to hear Dr. Roberts discuss the developm
 ent\nof electrochemical exfoliated graphene materials and heteroatom doped
 \ncarbons\, considering two electrochemical applications: vanadium redox\n
 flow batteries and adsorption combined with electrochemical\nregeneration 
 for treatment of organic contaminants.  
DTSTAMP:20260425T173816Z
END:VEVENT
END:VCALENDAR