BEGIN:VCALENDAR
VERSION:2.0
PRODID:-//Drupal iCal API//EN
X-WR-CALNAME:Events items teaser
X-WR-TIMEZONE:America/Toronto
BEGIN:VTIMEZONE
TZID:America/Toronto
X-LIC-LOCATION:America/Toronto
BEGIN:DAYLIGHT
TZNAME:EDT
TZOFFSETFROM:-0500
TZOFFSETTO:-0400
DTSTART:20190310T070000
END:DAYLIGHT
BEGIN:STANDARD
TZNAME:EST
TZOFFSETFROM:-0400
TZOFFSETTO:-0500
DTSTART:20181104T060000
END:STANDARD
END:VTIMEZONE
BEGIN:VEVENT
UID:69ed24ae10fd4
DTSTART;TZID=America/Toronto:20190904T113000
SEQUENCE:0
TRANSP:TRANSPARENT
DTEND;TZID=America/Toronto:20190904T113000
URL:https://uwaterloo.ca/chemical-engineering/events/seminar-sticky-and-sli
 ppery-materials-inspired-geckos-and
LOCATION:E6 - Engineering 6 200 University Ave West E6-2024 Waterloo ON N2L
  3G1 Canada
SUMMARY:Seminar | Sticky and Slippery Materials Inspired by Geckos and\nCar
 tilage\, by Dr. Noshir S. Pesika
CLASS:PUBLIC
DESCRIPTION:Please join the Department of Chemical Engineering on Wednesday
 \,\nSeptember 4\, for a seminar on the fabrication of ‘smart’\nbiomime
 tic surfaces by Dr. Noshir Pesika\, Associate Professor in\nTulane Univer
 sity’s Chemical and Biomolecular Engineering\nDepartment.
DTSTAMP:20260425T203142Z
END:VEVENT
END:VCALENDAR