BEGIN:VCALENDAR
VERSION:2.0
PRODID:-//Drupal iCal API//EN
X-WR-CALNAME:Events items teaser
X-WR-TIMEZONE:America/Toronto
BEGIN:VTIMEZONE
TZID:America/Toronto
X-LIC-LOCATION:America/Toronto
BEGIN:DAYLIGHT
TZNAME:EDT
TZOFFSETFROM:-0500
TZOFFSETTO:-0400
DTSTART:20190310T070000
END:DAYLIGHT
BEGIN:STANDARD
TZNAME:EST
TZOFFSETFROM:-0400
TZOFFSETTO:-0500
DTSTART:20181104T060000
END:STANDARD
END:VTIMEZONE
BEGIN:VEVENT
UID:69ed24c1ec30d
DTSTART;TZID=America/Toronto:20190919T033000
SEQUENCE:0
TRANSP:TRANSPARENT
DTEND;TZID=America/Toronto:20190919T033000
URL:https://uwaterloo.ca/chemical-engineering/events/seminar-mathematical-m
 odelling-enzymatic-polymerization
LOCATION:E6 - Engineering 6 200 University Ave West E6-2024 Waterloo ON N2L
  3G1 Canada
SUMMARY:Seminar | Mathematical Modelling of Enzymatic Polymerization of\nGl
 ucans\, by Dr. Rosane Rech
CLASS:PUBLIC
DESCRIPTION:Please join the Department of Chemical Engineering on Thursday\
 ,\nSeptember 19\, for a seminar on the mathematical modelling of enzymatic
 \npolymerization of glucans by Dr. Rosane Rech\, from the Federal\nUniver
 sity of Rio Grande do Sul’s Food Science and Technology\nInstitute.
DTSTAMP:20260425T203201Z
END:VEVENT
END:VCALENDAR