BEGIN:VCALENDAR
VERSION:2.0
PRODID:-//Drupal iCal API//EN
X-WR-CALNAME:Events items teaser
X-WR-TIMEZONE:America/Toronto
BEGIN:VTIMEZONE
TZID:America/Toronto
X-LIC-LOCATION:America/Toronto
BEGIN:DAYLIGHT
TZNAME:EDT
TZOFFSETFROM:-0500
TZOFFSETTO:-0400
DTSTART:20190310T070000
END:DAYLIGHT
BEGIN:STANDARD
TZNAME:EST
TZOFFSETFROM:-0400
TZOFFSETTO:-0500
DTSTART:20181104T060000
END:STANDARD
END:VTIMEZONE
BEGIN:VEVENT
UID:69ed24c1f0d77
DTSTART;TZID=America/Toronto:20190911T123000
SEQUENCE:0
TRANSP:TRANSPARENT
DTEND;TZID=America/Toronto:20190911T123000
URL:https://uwaterloo.ca/chemical-engineering/events/seminar-droplet-based-
 microfluidics-high-throughput
LOCATION:E6 - Engineering 6 200 University Ave West E6-2024 Waterloo ON N2L
  3G1 Canada
SUMMARY:Seminar | Droplet-based Microfluidics for High Throughput Biologica
 l\nApplications\, by Dr. Naiwen Cui
CLASS:PUBLIC
DESCRIPTION:You are welcome to join the Department of Chemical Engineering 
 on\nWednesday\, September 11\, for a seminar on droplet-based microfluidic
 s\nfor high throughput biological applications by Dr. Naiwen Cui\, from\n
 Harvard University’s School of Engineering and Applied Science.
DTSTAMP:20260425T203201Z
END:VEVENT
END:VCALENDAR