BEGIN:VCALENDAR
VERSION:2.0
PRODID:-//Drupal iCal API//EN
X-WR-CALNAME:Events items teaser
X-WR-TIMEZONE:America/Toronto
BEGIN:VTIMEZONE
TZID:America/Toronto
X-LIC-LOCATION:America/Toronto
BEGIN:DAYLIGHT
TZNAME:EDT
TZOFFSETFROM:-0500
TZOFFSETTO:-0400
DTSTART:20190310T070000
END:DAYLIGHT
BEGIN:STANDARD
TZNAME:EST
TZOFFSETFROM:-0400
TZOFFSETTO:-0500
DTSTART:20181104T060000
END:STANDARD
END:VTIMEZONE
BEGIN:VEVENT
UID:69ec57228650b
DTSTART;TZID=America/Toronto:20191009T123000
SEQUENCE:0
TRANSP:TRANSPARENT
DTEND;TZID=America/Toronto:20191009T123000
URL:https://uwaterloo.ca/chemical-engineering/events/seminar-responsive-mat
 erials-small-scale-bioinspired-soft
LOCATION:E6 - Engineering 6 200 University Ave West E6-2024 Waterloo ON N2L
  3G1 Canada
SUMMARY:Seminar | Responsive Materials for Small-Scale Bioinspired Soft Rob
 ots\nand Devices\, by Dr. Hamed Shahsavan
CLASS:PUBLIC
DESCRIPTION:The Department of Chemical Engineering welcomes you to a semina
 r by\nDr. Hamed Shahsavan\, who will be speaking about soft\nstimuli-respo
 nsive and shape programmable materials in the design and\nfabrication of m
 icroscale robots and devices.
DTSTAMP:20260425T055442Z
END:VEVENT
END:VCALENDAR