BEGIN:VCALENDAR
VERSION:2.0
PRODID:-//Drupal iCal API//EN
X-WR-CALNAME:Events items teaser
X-WR-TIMEZONE:America/Toronto
BEGIN:VTIMEZONE
TZID:America/Toronto
X-LIC-LOCATION:America/Toronto
BEGIN:DAYLIGHT
TZNAME:EDT
TZOFFSETFROM:-0500
TZOFFSETTO:-0400
DTSTART:20190310T070000
END:DAYLIGHT
BEGIN:STANDARD
TZNAME:EST
TZOFFSETFROM:-0400
TZOFFSETTO:-0500
DTSTART:20181104T060000
END:STANDARD
END:VTIMEZONE
BEGIN:VEVENT
UID:69ecfc0ebeb2e
DTSTART;TZID=America/Toronto:20191023T130000
SEQUENCE:0
TRANSP:TRANSPARENT
DTEND;TZID=America/Toronto:20191023T130000
URL:https://uwaterloo.ca/chemical-engineering/events/seminar-centrifugal-se
 paration-biotechnology-dr-wallace
LOCATION:E6 - Engineering 6 200 University Ave West Waterloo ON N2L 3G1 Can
 ada
SUMMARY:Seminar | Centrifugal Separation of Biotechnology\, by Dr. Wallace\
 nLeung
CLASS:PUBLIC
DESCRIPTION:Please join the Department of Chemical Engineering for a semina
 r\,\ntitled Centrifugal Separation of Biotechnology\, by Professor and Cha
 ir\nof Innovative Products and Technologies at Hong Kong Polytechnic\nUniv
 ersity\, Dr. Wallace Leung.
DTSTAMP:20260425T173822Z
END:VEVENT
END:VCALENDAR