BEGIN:VCALENDAR
VERSION:2.0
PRODID:-//Drupal iCal API//EN
X-WR-CALNAME:Events items teaser
X-WR-TIMEZONE:America/Toronto
BEGIN:VTIMEZONE
TZID:America/Toronto
X-LIC-LOCATION:America/Toronto
BEGIN:DAYLIGHT
TZNAME:EDT
TZOFFSETFROM:-0500
TZOFFSETTO:-0400
DTSTART:20190310T070000
END:DAYLIGHT
BEGIN:STANDARD
TZNAME:EST
TZOFFSETFROM:-0400
TZOFFSETTO:-0500
DTSTART:20191103T060000
END:STANDARD
END:VTIMEZONE
BEGIN:VEVENT
UID:69ecbb27f1ab3
DTSTART;TZID=America/Toronto:20191213T140000
SEQUENCE:0
TRANSP:TRANSPARENT
DTEND;TZID=America/Toronto:20191213T140000
URL:https://uwaterloo.ca/chemical-engineering/events/seminar-tips-how-write
 -and-submit-successful-paper-dr-joao-b
LOCATION:E6 - Engineering 6 200 University Ave West E6-2024 Waterloo ON N2L
  3G1 Canada
SUMMARY:Seminar | Tips on How to Write and Submit a Successful Paper\, by D
 r.\nJoão B. P. Soares
CLASS:PUBLIC
DESCRIPTION:Join João B. P. Soares\, Editor-in-Chief\, Canadian Journal 
 of\nChemical Engineering\, for a 360˚ look into the publishing world of\
 nscholarly and technical papers.
DTSTAMP:20260425T130127Z
END:VEVENT
END:VCALENDAR