BEGIN:VCALENDAR
VERSION:2.0
PRODID:-//Drupal iCal API//EN
X-WR-CALNAME:Events items teaser
X-WR-TIMEZONE:America/Toronto
BEGIN:VTIMEZONE
TZID:America/Toronto
X-LIC-LOCATION:America/Toronto
BEGIN:DAYLIGHT
TZNAME:EDT
TZOFFSETFROM:-0500
TZOFFSETTO:-0400
DTSTART:20240310T070000
END:DAYLIGHT
BEGIN:STANDARD
TZNAME:EST
TZOFFSETFROM:-0400
TZOFFSETTO:-0500
DTSTART:20231105T060000
END:STANDARD
END:VTIMEZONE
BEGIN:VEVENT
UID:69eb60714627e
DTSTART;TZID=America/Toronto:20240404T100000
SEQUENCE:0
TRANSP:TRANSPARENT
DTEND;TZID=America/Toronto:20240404T130000
URL:https://uwaterloo.ca/chemistry/events/doctoral-thesis-defence-sanjay-pa
 tel
SUMMARY:Doctoral Thesis Defence - Sanjay Patel
CLASS:PUBLIC
DESCRIPTION:PYRENE EXCIMER FORMATION: A TOOL TO STUDY MACROMOLECULAR CONFOR
 MATIONS\nIN SOLUTION\n\nSUPERVISOR: J. DUHAMEL\n\nTHURSDAY\, APRIL 4\, 202
 4\n\n10:00 am\n\nIN-PERSON: C2-361
DTSTAMP:20260424T122209Z
END:VEVENT
END:VCALENDAR